Workbook
Name CD: 'RETRIBUCIONES 2025'!$B$13:$W$14
Name Excel_BuiltIn_Print_Titles_1: PLANTILLA!$1:$9
Name PAGA_EXTRA: 'RETRIBUCIONES 2025'!$B$8:$G$10
Name Print_Area: PLANTILLA!$A$1:$AD$561
Name RETRIBUCION_BASICA: 'RETRIBUCIONES 2025'!$B$3:$G$5

Sheet PLANTILLA
A1: PLANTILLA PRESUPUESTARIA DEL AYUNTAMIENTO DE ALGINET DEL EJERCICIO 2025
A3: PERSONAL FUNCIONARIO
A5: Administración General
A6: 920
D7: 1200X | F7: 12006 | I7: 12100 | K7: 12101 | P7: 1200X | Q7: 12100 | R7: 12101
B8: RETRIBUCIONES BASICAS | G8: RETRIBUCIONES COMPLEMENTARIAS | L8: TOTAL.RET. MENSUAL | M8: TOTAL.RET. ANUAL | N8: PAGA EXTRA
B9: GRUP. | C9: SB | D9: SB ANUAL | E9: ANTIG. | F9: ANTIG. ANUAL | G9: C.D. | H9: CD MENSUAL | I9: CD ANUAL | J9: CE MENSUAL | K9: CE ANUAL | N9: RET.BAS.P.E. | O9: ANTIG.P.E. | P9: TOTAL RB PE | Q9: CD PE | R9: CE PE | S9: TOTAL PE | T9: TOTAL ANUAL | U9: SS A CARGO EMPLEADOR | V9: COSTE TOTAL
A12: A.1.1.Secretaría clase 2ª (categoría de entrada). | B12: A1 | C12: ='RETRIBUCIONES 2025'!$B$4 -> 1326.9 | D12: =C12*12 -> 15922.8 | E12: 306.42 | F12: =E12*12 -> 3677.04 | G12: 30 | H12: ='RETRIBUCIONES 2025'!W14 -> 1159.06 | I12: =H12*12 -> 13908.72 | J12: 2451.52 | K12: =J12*12 -> 29418.24 | L12: =C12+E12+H12+J12 -> 5243.9 | M12: =D12+F12+I12+K12 -> 62926.8 | N12: ='RETRIBUCIONES 2025'!$B$9 -> 818.82 | O12: 0 | P12: =SUM(N12:O12) -> 818.82 | Q12: =H12 -> 1159.06 | R12: =J12 -> 2451.52 | S12: =P12+Q12+R12 -> 4429.4 | T12: =M12+S12*2 -> 71785.6 | U12: =T12*0.33 -> 23689.248 | V12: =T12+U12 -> 95474.848
A14: A.2.1. Tecnico Adminisración General | B14: A1 | C14: ='RETRIBUCIONES 2025'!$B$4 -> 1326.9 | D14: =C14*12 -> 15922.8 | E14: =51.07+31.53 -> 82.6 | F14: =E14*12 -> 991.2 | G14: 28 | H14: ='RETRIBUCIONES 2025'!$U$14 -> 995.93 | I14: =H14*12 -> 11951.16 | J14: 2118.68 | K14: =J14*12 -> 25424.16 | L14: =C14+E14+H14+J14 -> 4524.11 | M14: =D14+F14+I14+K14 -> 54289.32 | N14: ='RETRIBUCIONES 2025'!$B$9 -> 818.82 | O14: 0 | P14: =SUM(N14:O14) -> 818.82 | Q14: =H14 -> 995.93 | R14: =J14 -> 2118.68 | S14: =P14+Q14+R14 -> 3933.43 | T14: =M14+S14*2 -> 62156.18 | U14: =T14*0.33 -> 20511.539 | V14: =T14+U14 -> 82667.719
A16: A.2.1. Tecnico Adminisración General (Adscrito Urbanismo) | B16: A1 | C16: ='RETRIBUCIONES 2025'!$B$4 -> 1326.9 | D16: =C16*12 -> 15922.8 | E16: 0 | F16: =E16*12 -> 0 | G16: 28 | H16: ='RETRIBUCIONES 2025'!$U$14 -> 995.93 | I16: =H16*12 -> 11951.16 | J16: 1830.36 | K16: =J16*12 -> 21964.32 | L16: =C16+E16+H16+J16 -> 4153.19 | M16: =D16+F16+I16+K16 -> 49838.28 | N16: ='RETRIBUCIONES 2025'!$B$9 -> 818.82 | O16: 0 | P16: =SUM(N16:O16) -> 818.82 | Q16: =H16 -> 995.93 | R16: =J16 -> 1830.36 | S16: =P16+Q16+R16 -> 3645.11 | T16: =M16+S16*2 -> 57128.5 | U16: =T16*0.33 -> 18852.405 | V16: =T16+U16 -> 75980.905
A18: TOTAL A1 | C18: =SUM(C12:C17) -> 3980.7 | D18: =C18*12 -> 47768.4 | E18: =SUM(E12:E17) -> 389.02 | F18: =E18*12 -> 4668.24 | H18: =SUM(H12:H17) -> 3150.92 | I18: =H18*12 -> 37811.04 | J18: =SUM(J12:J17) -> 6400.56 | K18: =J18*12 -> 76806.72 | L18: =C18+E18+H18+J18 -> 13921.2 | M18: =D18+F18+I18+K18 -> 167054.4 | N18: =SUM(N12:N17) -> 2456.46 | O18: =SUM(O12:O17) -> 0 | P18: =SUM(P12:P17) -> 2456.46 | Q18: =H18 -> 3150.92 | R18: =J18 -> 6400.56 | S18: =P18+Q18+R18 -> 12007.94 | T18: =M18+S18*2 -> 191070.28 | U18: =T18*0.33 -> 63053.192 | V18: =T18+U18 -> 254123.47
A20: A.2.2.- Técnico Medio de contratación | B20: A2 | C20: ='RETRIBUCIONES 2025'!C4 -> 1147.35 | D20: =C20*12 -> 13768.2 | E20: =5*'RETRIBUCIONES 2025'!C6 -> 0 | F20: =E20*12 -> 0 | G20: 25 | H20: ='RETRIBUCIONES 2025'!$R$14 -> 741.15 | I20: =H20*12 -> 8893.8 | J20: 1539.4 | K20: =J20*12 -> 18472.8 | L20: =C20+E20+H20+J20 -> 3427.9 | M20: =D20+F20+I20+K20 -> 41134.8 | N20: ='RETRIBUCIONES 2025'!$C$9 -> 836.78 | O20: 0 | P20: =SUM(N20:O20) -> 836.78 | Q20: =H20 -> 741.15 | R20: =J20 -> 1539.4 | S20: =P20+Q20+R20 -> 3117.33 | T20: =M20+S20*2 -> 47369.46 | U20: =T20*0.33 -> 15631.922 | V20: =T20+U20 -> 63001.382
A22: A.3.2.- Técnico Medio (Informático) | B22: A2 | C22: 1147.35 | D22: =C22*12 -> 13768.2 | E22: =1*'[1]RETRIBUCIONES 2024'!$C$5 -> 41.65 | F22: =E22*12 -> 499.8 | G22: 25 | H22: ='[1]RETRIBUCIONES 2024'!$R$14 -> 741.15 | I22: =H22*12 -> 8893.8 | J22: 1539.4 | K22: =J22*12 -> 18472.8 | L22: =C22+E22+H22+J22 -> 3469.55 | M22: =D22+F22+I22+K22 -> 41634.6 | N22: ='[1]RETRIBUCIONES 2024'!$C$9 -> 836.78 | O22: ='[1]RETRIBUCIONES 2024'!$C$10 -> 30.37 | P22: =SUM(N22:O22) -> 867.15 | Q22: =H22 -> 741.15 | R22: =J22 -> 1539.4 | S22: =P22+Q22+R22 -> 3147.7 | T22: =M22+S22*2 -> 47930 | U22: =T22*0.33 -> 15816.9 | V22: =T22+U22 -> 63746.9
A24: A.3.2.- Técnico Medio. Técnico de Recursos Humanos | B24: A2 | C24: ='RETRIBUCIONES 2025'!C4 -> 1147.35 | D24: =C24*12 -> 13768.2 | E24: =5*'RETRIBUCIONES 2025'!C6 -> 0 | F24: =E24*12 -> 0 | G24: 25 | H24: ='RETRIBUCIONES 2025'!$R$14 -> 741.15 | I24: =H24*12 -> 8893.8 | J24: 1539.4 | K24: =J24*12 -> 18472.8 | L24: =C24+E24+H24+J24 -> 3427.9 | M24: =D24+F24+I24+K24 -> 41134.8 | N24: ='RETRIBUCIONES 2025'!$C$9 -> 836.78 | O24: 0 | P24: =SUM(N24:O24) -> 836.78 | Q24: =H24 -> 741.15 | R24: =J24 -> 1539.4 | S24: =P24+Q24+R24 -> 3117.33 | T24: =M24+S24*2 -> 47369.46 | U24: =T24*0.33 -> 15631.922 | V24: =T24+U24 -> 63001.382
A26: TOTAL A2 | C26: =SUM(C20:C24) -> 3442.05 | D26: =C26*12 -> 41304.6 | E26: =SUM(E20:E24) -> 41.65 | F26: =E26*12 -> 499.8 | H26: =SUM(H20:H24) -> 2223.45 | I26: =H26*12 -> 26681.4 | J26: =SUM(J20:J24) -> 4618.2 | K26: =J26*12 -> 55418.4 | L26: =C26+E26+H26+J26 -> 10325.35 | M26: =D26+F26+I26+K26 -> 123904.2 | N26: =SUM(N20:N24) -> 2510.34 | O26: =SUM(O20:O24) -> 30.37 | P26: =SUM(P20:P24) -> 2540.71 | Q26: =H26 -> 2223.45 | R26: =J26 -> 4618.2 | S26: =P26+Q26+R26 -> 9382.36 | T26: =M26+S26*2 -> 142668.92 | U26: =T26*0.33 -> 47080.744 | V26: =T26+U26 -> 189749.66
A28: A.2.3.-Administrativa | B28: C1 | C28: ='RETRIBUCIONES 2025'!$E$4 -> 861.46 | D28: =C28*12 -> 10337.52 | E28: =('RETRIBUCIONES 2025'!$F$5*4)+('RETRIBUCIONES 2025'!$E$5*3) -> 180.43 | F28: =E28*12 -> 2165.16 | G28: 20 | H28: ='RETRIBUCIONES 2025'!$M$14 -> 526.09 | I28: =H28*12 -> 6313.08 | J28: 817.02 | K28: =J28*12 -> 9804.24 | L28: =C28+E28+H28+J28 -> 2385 | M28: =D28+F28+I28+K28 -> 28620 | N28: ='RETRIBUCIONES 2025'!$E$9 -> 744.56 | O28: =('RETRIBUCIONES 2025'!$F$10*4)+('RETRIBUCIONES 2025'!$E$10*3) -> 166.59 | P28: =SUM(N28:O28) -> 911.15 | Q28: =H28 -> 526.09 | R28: =J28 -> 817.02 | S28: =P28+Q28+R28 -> 2254.26 | T28: =M28+S28*2 -> 33128.52 | U28: =T28*0.33 -> 10932.412 | V28: =T28+U28 -> 44060.932
A30: A.2.3.-Administrativa | B30: C1 | C30: ='RETRIBUCIONES 2025'!$E$4 -> 861.46 | D30: =C30*12 -> 10337.52 | E30: ='RETRIBUCIONES 2025'!$E$5*7 -> 220.71 | F30: =E30*12 -> 2648.52 | G30: 20 | H30: ='RETRIBUCIONES 2025'!$M$14 -> 526.09 | I30: =H30*12 -> 6313.08 | J30: 817.02 | K30: =J30*12 -> 9804.24 | L30: =C30+E30+H30+J30 -> 2425.28 | M30: =D30+F30+I30+K30 -> 29103.36 | N30: ='RETRIBUCIONES 2025'!$E$9 -> 744.56 | O30: ='RETRIBUCIONES 2025'!$E$10*7 -> 190.47 | P30: =SUM(N30:O30) -> 935.03 | Q30: =H30 -> 526.09 | R30: =J30 -> 817.02 | S30: =P30+Q30+R30 -> 2278.14 | T30: =M30+S30*2 -> 33659.64 | U30: =T30*0.33 -> 11107.681 | V30: =T30+U30 -> 44767.321
A32: A.2.3.-Administrativa | B32: C1 | C32: ='RETRIBUCIONES 2025'!$E$4 -> 861.46 | D32: =C32*12 -> 10337.52 | E32: ='RETRIBUCIONES 2025'!$E$5*2 -> 63.06 | F32: =E32*12 -> 756.72 | G32: 20 | H32: ='RETRIBUCIONES 2025'!$M$14 -> 526.09 | I32: =H32*12 -> 6313.08 | J32: 817.02 | K32: =J32*12 -> 9804.24 | L32: =C32+E32+H32+J32 -> 2267.63 | M32: =D32+F32+I32+K32 -> 27211.56 | N32: ='RETRIBUCIONES 2025'!$E$9 -> 744.56 | O32: ='RETRIBUCIONES 2025'!$E$10*2 -> 54.42 | P32: =SUM(N32:O32) -> 798.98 | Q32: =H32 -> 526.09 | R32: =J32 -> 817.02 | S32: =P32+Q32+R32 -> 2142.09 | T32: =M32+S32*2 -> 31495.74 | U32: =T32*0.33 -> 10393.594 | V32: =T32+U32 -> 41889.334
A34: A.2.3.-Administrativa | B34: C1 | C34: ='RETRIBUCIONES 2025'!$E$4 -> 861.46 | D34: =C34*12 -> 10337.52 | E34: =('RETRIBUCIONES 2025'!$F$5*5)+'RETRIBUCIONES 2025'!$E$5*9 -> 391.07 | F34: =E34*12 -> 4692.84 | G34: 20 | H34: ='RETRIBUCIONES 2025'!$M$14 -> 526.09 | I34: =H34*12 -> 6313.08 | J34: 962.1 | K34: =J34*12 -> 11545.2 | L34: =C34+E34+H34+J34 -> 2740.72 | M34: =D34+F34+I34+K34 -> 32888.64 | N34: ='RETRIBUCIONES 2025'!$E$9 -> 744.56 | O34: =('RETRIBUCIONES 2025'!$F$10*5)+'RETRIBUCIONES 2025'!$E$10*9 -> 351.09 | P34: =SUM(N34:O34) -> 1095.65 | Q34: =H34 -> 526.09 | R34: =J34 -> 962.1 | S34: =P34+Q34+R34 -> 2583.84 | T34: =M34+S34*2 -> 38056.32 | U34: =T34*0.33 -> 12558.586 | V34: =T34+U34 -> 50614.906
A36: TOTAL C1 | C36: =SUM(C28:C34) -> 3445.84 | D36: =C36*12 -> 41350.08 | E36: =SUM(E28:E34) -> 855.27 | F36: =E36*12 -> 10263.24 | H36: =SUM(H28:H34) -> 2104.36 | I36: =H36*12 -> 25252.32 | J36: =SUM(J28:J34) -> 3413.16 | K36: =J36*12 -> 40957.92 | L36: =C36+E36+H36+J36 -> 9818.63 | M36: =D36+F36+I36+K36 -> 117823.56 | N36: =SUM(N28:N35) -> 2978.24 | O36: =SUM(O28:O34) -> 762.57 | P36: =SUM(N36:O36) -> 3740.81 | Q36: =H36 -> 2104.36 | R36: =J36 -> 3413.16 | S36: =P36+Q36+R36 -> 9258.33 | T36: =M36+S36*2 -> 136340.22 | U36: =T36*0.33 -> 44992.273 | V36: =T36+U36 -> 181332.49
A38: A.2.4.- Auxiliar | B38: C2 | C38: ='RETRIBUCIONES 2025'!$F$4 -> 716.98 | D38: =C38*12 -> 8603.76 | E38: 0 | F38: =E38*12 -> 0 | G38: 18 | H38: ='RETRIBUCIONES 2025'!$K$14 -> 472.37 | I38: =H38*12 -> 5668.44 | J38: 610.34 | K38: =J38*12 -> 7324.08 | L38: =C38+E38+H38+J38 -> 1799.69 | M38: =D38+F38+I38+K38 -> 21596.28 | N38: ='RETRIBUCIONES 2025'!$F$9 -> 710.44 | O38: 0 | P38: =SUM(N38:O38) -> 710.44 | Q38: =H38 -> 472.37 | R38: =J38 -> 610.34 | S38: =P38+Q38+R38 -> 1793.15 | T38: =M38+S38*2 -> 25182.58 | U38: =T38*0.33 -> 8310.2514 | V38: =T38+U38 -> 33492.831
A40: A.2.4.- Auxiliar | B40: C2/C1 | C40: ='RETRIBUCIONES 2025'!$F$4 -> 716.98 | D40: =C40*12 -> 8603.76 | E40: =('RETRIBUCIONES 2025'!$F$5*5)+('RETRIBUCIONES 2025'!$E$5*4) -> 233.42 | F40: =E40*12 -> 2801.04 | G40: 20 | H40: ='RETRIBUCIONES 2025'!M14 -> 526.09 | I40: =H40*12 -> 6313.08 | J40: 610.34 | K40: =J40*12 -> 7324.08 | L40: =C40+E40+H40+J40 -> 2086.83 | M40: =D40+F40+I40+K40 -> 25041.96 | N40: ='RETRIBUCIONES 2025'!$F$9 -> 710.44 | O40: =('RETRIBUCIONES 2025'!$F$10*5)+('RETRIBUCIONES 2025'!$E$10*4) -> 215.04 | P40: =SUM(N40:O40) -> 925.48 | Q40: =H40 -> 526.09 | R40: =J40 -> 610.34 | S40: =P40+Q40+R40 -> 2061.91 | T40: =M40+S40*2 -> 29165.78 | U40: =T40*0.33 -> 9624.7074 | V40: =T40+U40 -> 38790.487
A42: TOTAL C2 | C42: =SUM(C38:C40) -> 1433.96 | D42: =C42*12 -> 17207.52 | E42: =SUM(E38:E40) -> 233.42 | F42: =E42*12 -> 2801.04 | H42: =SUM(H38:H40) -> 998.46 | I42: =H42*12 -> 11981.52 | J42: =SUM(J38:J40) -> 1220.68 | K42: =J42*12 -> 14648.16 | L42: =C42+E42+H42+J42 -> 3886.52 | M42: =D42+F42+I42+K42 -> 46638.24 | N42: =SUM(N38:N40) -> 1420.88 | O42: =SUM(O38:O40) -> 215.04 | P42: =SUM(N42:O42) -> 1635.92 | Q42: =H42 -> 998.46 | R42: =J42 -> 1220.68 | S42: =P42+Q42+R42 -> 3855.06 | T42: =M42+S42*2 -> 54348.36 | U42: =T42*0.33 -> 17934.959 | V42: =T42+U42 -> 72283.319
A44: TOTAL ADM. GENERAL | C44: =C18+C26+C36+C42 -> 12302.55 | D44: =C44*12 -> 147630.6 | E44: =E18+E26+E36+E42 -> 1519.36 | F44: =E44*12 -> 18232.32 | H44: =H18+H26+H36+H42 -> 8477.19 | I44: =H44*12 -> 101726.28 | J44: =J18+J26+J36+J42 -> 15652.6 | K44: =J44*12 -> 187831.2 | L44: =C44+E44+H44+J44 -> 37951.7 | M44: =D44+F44+I44+K44 -> 455420.4 | N44: =SUM(N18,N26,N36,N42) -> 9365.92 | O44: =O18+O36+O42 -> 977.61 | P44: =P18+P26+P36+P42 -> 10373.9 | Q44: =H44 -> 8477.19 | R44: =J44 -> 15652.6 | S44: =P44+Q44+R44 -> 34503.69 | T44: =M44+S44*2 -> 524427.78 | U44: =T44*0.33 -> 173061.17 | V44: =T44+U44 -> 697488.95
D45: 920-1200X | F45: 920-12006 | I45: 920-12100 | K45: 920-12101 | P45: 920-1200X | Q45: 920-12100 | R45: 920-12101
A47: Seguridad
A48: 132
C49: 1200X | D49: 1200X | E49: 12006 | F49: 12006 | H49: 12100 | I49: 12100 | J49: 12101 | K49: 12101 | P49: 120 | Q49: 12100 | R49: 12101
B50: RETRIBUCIONES BASICAS | G50: RETRIBUCIONES COMPLEMENTARIAS | L50: TOTAL.RET. MENSUAL | M50: TOTAL.RET. ANUAL | N50: PAGA EXTRA
B51: GRUP. | C51: SB MENSUAL | D51: SB ANUAL | E51: ANTIG. MENSUAL | F51: ANTIG. ANUAL | G51: C.D. | H51: CD MENSUAL | I51: CD ANUAL | J51: CE MENSUAL | K51: CE ANUAL | N51: RET.BAS.P.E. | O51: ANTIG.P.E. | P51: TOTAL RB PE | Q51: CD PE | R51: CE PE | S51: TOTAL PE | T51: TOTAL ANUAL | U51: SS A CARGO EMPLEADOR | V51: COSTE TOTAL
A53: A.3.4.- Servicios Especiales. Policía Local. Escala Técnica | B53: A2 | C53: ='RETRIBUCIONES 2025'!$C$4 -> 1147.35 | D53: =C53*12 -> 13768.2 | E53: 0 | F53: =E53*12 -> 0 | G53: 24 | H53: ='RETRIBUCIONES 2025'!Q14 -> 697.43 | I53: =H53*12 -> 8369.16 | J53: 1736.42 | K53: =J53*12 -> 20837.04 | L53: =C53+E53+H53+J53 -> 3581.2 | M53: =D53+F53+I53+K53 -> 42974.4 | N53: ='RETRIBUCIONES 2025'!$C$9 -> 836.78 | O53: 0 | P53: =SUM(N53:O53) -> 836.78 | Q53: =H53 -> 697.43 | R53: =J53 -> 1736.42 | S53: =P53+Q53+R53 -> 3270.63 | T53: =M53+S53*2 -> 49515.66 | U53: =T53*0.33 -> 16340.168 | V53: =T53+U53 -> 65855.828
T54: =M54+S54*2 -> 0 | U54: =T54*0.33 -> 0 | V54: =T54+U54 -> 0
A55: TOTAL A2 | C55: =SUM(C53:C54) -> 1147.35 | D55: =C55*12 -> 13768.2 | E55: =SUM(E54:E54) -> 0 | F55: =E55*12 -> 0 | H55: =SUM(H53:H54) -> 697.43 | I55: =H55*12 -> 8369.16 | J55: =SUM(J53:J54) -> 1736.42 | K55: =J55*12 -> 20837.04 | L55: =C55+E55+H55+J55 -> 3581.2 | M55: =D55+F55+I55+K55 -> 42974.4 | N55: =SUM(N53:N54) -> 836.78 | O55: =SUM(O53:O54) -> 0 | P55: =SUM(N55:O55) -> 836.78 | Q55: =H55 -> 697.43 | R55: =J55 -> 1736.42 | S55: =P55+Q55+R55 -> 3270.63 | T55: =M55+S55*2 -> 49515.66 | U55: =T55*0.33 -> 16340.168 | V55: =T55+U55 -> 65855.828
T56: =M56+S56*2 -> 0 | U56: =T56*0.33 -> 0 | V56: =T56+U56 -> 0
A57: A.3.5.- Servicios Especiales. Policía Local. Escala Ejecutiva | B57: B | C57: ='RETRIBUCIONES 2025'!$D$4 -> 1002.94 | D57: =C57*12 -> 12035.28 | E57: ='RETRIBUCIONES 2025'!E5 -> 31.53 | F57: =E57*12 -> 378.36 | G57: 18 | H57: ='RETRIBUCIONES 2025'!$K$14 -> 472.37 | I57: =H57*12 -> 5668.44 | J57: 1226.98 | K57: =J57*12 -> 14723.76 | L57: =C57+E57+H57+J57 -> 2733.82 | M57: =D57+F57+I57+K57 -> 32805.84 | N57: ='RETRIBUCIONES 2025'!$D$9 -> 866.84 | O57: ='RETRIBUCIONES 2025'!E10 -> 27.21 | P57: =SUM(N57:O57) -> 894.05 | Q57: =H57 -> 472.37 | R57: =J57 -> 1226.98 | S57: =P57+Q57+R57 -> 2593.4 | T57: =M57+S57*2 -> 37992.64 | U57: =T57*0.33 -> 12537.571 | V57: =T57+U57 -> 50530.211
T58: =M58+S58*2 -> 0 | U58: =T58*0.33 -> 0 | V58: =T58+U58 -> 0
A59: A.3.5.- Servicios Especiales. Policía Local. Escala Ejecutiva | B59: B | C59: ='RETRIBUCIONES 2025'!$D$4 -> 1002.94 | D59: =C59*12 -> 12035.28 | E59: =('RETRIBUCIONES 2025'!$F$5*2)+('RETRIBUCIONES 2025'!$E$5*7)+('RETRIBUCIONES 2025'!$D$5*2) -> 336.71 | F59: =E59*12 -> 4040.52 | G59: 18 | H59: ='RETRIBUCIONES 2025'!$K$14 -> 472.37 | I59: =H59*12 -> 5668.44 | J59: 1226.98 | K59: =J59*12 -> 14723.76 | L59: =C59+E59+H59+J59 -> 3039 | M59: =D59+F59+I59+K59 -> 36468 | N59: ='RETRIBUCIONES 2025'!$D$9 -> 866.84 | O59: =('RETRIBUCIONES 2025'!$F$10*2)+('RETRIBUCIONES 2025'!$E$10*7)+('RETRIBUCIONES 2025'!$D$10*2) -> 296.15 | P59: =SUM(N59:O59) -> 1162.99 | Q59: =H59 -> 472.37 | R59: =J59 -> 1226.98 | S59: =P59+Q59+R59 -> 2862.34 | T59: =M59+S59*2 -> 42192.68 | U59: =T59*0.33 -> 13923.584 | V59: =T59+U59 -> 56116.264
T60: =M60+S60*2 -> 0 | U60: =T60*0.33 -> 0 | V60: =T60+U60 -> 0
A61: A.3.5.- Servicios Especiales. Policía Local. Escala Ejecutiva | B61: B | C61: ='RETRIBUCIONES 2025'!$D$4 -> 1002.94 | D61: =C61*12 -> 12035.28 | E61: ='RETRIBUCIONES 2025'!$E$5*8 -> 252.24 | F61: =E61*12 -> 3026.88 | G61: 20 | H61: ='RETRIBUCIONES 2025'!$M$14 -> 526.09 | I61: =H61*12 -> 6313.08 | J61: 1226.98 | K61: =J61*12 -> 14723.76 | L61: =C61+E61+H61+J61 -> 3008.25 | M61: =D61+F61+I61+K61 -> 36099 | N61: ='RETRIBUCIONES 2025'!$D$9 -> 866.84 | O61: ='RETRIBUCIONES 2025'!$E$10*8 -> 217.68 | P61: =SUM(N61:O61) -> 1084.52 | Q61: =H61 -> 526.09 | R61: =J61 -> 1226.98 | S61: =P61+Q61+R61 -> 2837.59 | T61: =M61+S61*2 -> 41774.18 | U61: =T61*0.33 -> 13785.479 | V61: =T61+U61 -> 55559.659
T62: =M62+S62*2 -> 0 | U62: =T62*0.33 -> 0 | V62: =T62+U62 -> 0
...

Sheet RETRIBUCIONES 2025
A2: RETRIBUCION BASICA
A3: GRUPO | B3: A1 | C3: A2 | D3: B | E3: C1 | F3: C2 | G3: AP | M3: INCREMENTO | O3: 1.024975
A4: SUELDO | B4: 1326.9 | C4: 1147.35 | D4: 1002.94 | E4: 861.46 | F4: 716.98 | G4: 656.23
A5: TRIENIO | B5: 51.07 | C5: 41.65 | D5: 36.54 | E5: 31.53 | F5: 21.46 | G5: 16.16
A7: PAGA EXTRA
A8: GRUPO | B8: A1 | C8: A2 | D8: B | E8: C1 | F8: C2 | G8: AP
A9: SUELDO | B9: 818.82 | C9: 836.78 | D9: 866.84 | E9: 744.56 | F9: 710.44 | G9: 656.23
A10: TRIENIO | B10: 31.53 | C10: 30.37 | D10: 31.6 | E10: 27.21 | F10: 21.24 | G10: 16.16
A12: COMPLEMENTO DESTINO
A13: NIVEL | B13: 9 | C13: 10 | D13: 11 | E13: 12 | F13: 13 | G13: 14 | H13: 15 | I13: 16 | J13: 17 | K13: 18 | L13: 19 | M13: 20 | N13: 21 | O13: 22 | P13: 23 | Q13: 24 | R13: 25 | S13: 26 | T13: 27 | U13: 28 | V13: 29 | W13: 30
A14: IMPORTE | B14: 244.08 | C14: 257.49 | D14: 284.31 | E14: 311.19 | F14: 338.07 | G14: 364.97 | H14: 391.78 | I14: 418.69 | J14: 445.5 | K14: 472.37 | L14: 499.24 | M14: 526.09 | N14: 566.36 | O14: 610 | P14: 653.76 | Q14: 697.43 | R14: 741.15 | S14: 835.38 | T14: 952.17 | U14: 995.93 | V14: 1039.61 | W14: 1159.06
A17: RETRIBUCIONES CENTRO OCUPACIONAL
B18: DOGV 08.06.2023
A19: CATEGORIA | B19: SUELDO 2024 | C19: TRIENIOS 2024 | D19: SUELDO 2025 | E19: TRIENIOS 2025 | F19: INCREMENTO
A20: FISEOTERAPEUTA | B20: 2021.87 | C20: 35.81 | D20: 2096.33 | E20: 37.14 | F20: =+D20-B20 -> 74.46
A21: PSICOLOGO | B21: 2529.86 | C21: 43.18 | D21: 2623.03 | E21: 44.77 | F21: =+D21-B21 -> 93.17
A22: MONITOR | B22: 1603.21 | C22: 27.65 | D22: 1662.26 | E22: 28.67 | F22: =+D22-B22 -> 59.05
A23: AUXILIAR OCUPACIONAL | B23: 1392.15 | C23: 19.17 | D23: 1443.42 | E23: 19.87 | F23: =+D23-B23 -> 51.27
A24: COMPL. DIRECTOR | B24: 157.72 | D24: 157.72 | F24: =+D24-B24 -> 0
A25: COMPLE.VIG.COM | B25: 70.21 | D25: 70.21
A26: AUXILIAR OCUPACIONAL | C26: 19.17 | E26: 19.87
A27: COMPLE.VIG.TRANS. 1 HORA | B27: 165.15
A28: COMPLE.VIG.TRANS. 2 HORA | B28: 171.68
A31: PLAN DE EMPLEO 2024
B32: TOTALES
A33: SERVICIOS SOCIALES | B33: 992.25 | C33: =2796.09/8 -> 349.51125
A34: EMPLEO | B34: 992.25 | C34: =2796.09/8 -> 349.51125
A35: INSTALACIONES DEPORTIVAS | B35: 992.25 | C35: =2796.09/8 -> 349.51125
B39: A1 | C39: A2 | D39: B | E39: C1 | F39: C2
A43: COMPLEMENTO ESPECIFICO NORMAL
A44: CATEGORIA | B44: A1 | C44: A2 | D44: B | E44: C1 | F44: C2 | G44: AP
A45: CANTIDAD | B45: =30.61*O39 -> 0 | C45: =1494.64*O3 -> 1531.9686 | D45: =1191.3*O3 -> 1221.0527 | E45: =793.26*O3 -> 813.07167 | F45: =592.59*O3 -> 607.38994 | G45: =386.98*O3 -> 396.64483
A48: CE ESPECIAL
A49: C1 GUARDERIA | B49: =598.01*O3 -> 612.9453
A50: B SEGURIDAD | B50: =1221.05*O3 -> 1251.5457
A51: C1 SEGURIDAD | B51: =989.08*O3 -> 1013.7823
